BEGIN:VCALENDAR
VERSION:2.0
PRODID:-//Kailasha Restaurant Sebatu Ubud - ECPv6.15.17.1//NONSGML v1.0//EN
CALSCALE:GREGORIAN
METHOD:PUBLISH
X-WR-CALNAME:Kailasha Restaurant Sebatu Ubud
X-ORIGINAL-URL:https://kailasharestaurants.com
X-WR-CALDESC:Events for Kailasha Restaurant Sebatu Ubud
REFRESH-INTERVAL;VALUE=DURATION:PT1H
X-Robots-Tag:noindex
X-PUBLISHED-TTL:PT1H
BEGIN:VTIMEZONE
TZID:Asia/Makassar
BEGIN:STANDARD
TZOFFSETFROM:+0800
TZOFFSETTO:+0800
TZNAME:WITA
DTSTART:20250101T000000
END:STANDARD
END:VTIMEZONE
BEGIN:VEVENT
DTSTART;TZID=Asia/Makassar:20260425T190000
DTEND;TZID=Asia/Makassar:20260425T220000
DTSTAMP:20260419T215853
CREATED:20260327T083918Z
LAST-MODIFIED:20260327T083918Z
UID:1736-1777143600-1777154400@kailasharestaurants.com
SUMMARY:BBQ Night With Live Acoustic - April 25\, 2026
DESCRIPTION:Inclusion:\n\nSpecial BBQ Menu\nSet Menu @ IDR 250k ++/set\nLive acoustic music performance\n\nTerms & Conditions:\n\nPrice will be charged based on consumption from a la carte menu or Set menu\nAll the prices are subject to 21% tax and service charges\nThe performances will start from 7:00 pm until 10:00 pm\nBringing food & beverages from outside is not allowed\nVenue will be at Kailasha Restaurant\nMinimum 5 and more than 5 people are required to make a reservation in advance with a guaranteed deposit\nCancellation made within 24 hours of the event will incur a non-refund deposit\nIf there is a change in the event schedule will be notified further via email or phone
URL:https://kailasharestaurants.com/event/bbq-night-with-live-acoustic-april-25-2026/
LOCATION:Kailasha Restaurant\, Sebatu\, Kec. Tegallalang\, Gianyar\, Bali\, 80561\, Indonesia
CATEGORIES:Dinner
ATTACH;FMTTYPE=image/png:https://kailasharestaurants.com/wp-content/uploads/2025/01/BBQ-NIGHT.png
ORGANIZER;CN="Kailasha Restaurant":MAILTO:info@kailasharestaurants.com
END:VEVENT
END:VCALENDAR