BEGIN:VCALENDAR
VERSION:2.0
PRODID:-//Kailasha Restaurant Sebatu Ubud - ECPv6.15.17.1//NONSGML v1.0//EN
CALSCALE:GREGORIAN
METHOD:PUBLISH
X-WR-CALNAME:Kailasha Restaurant Sebatu Ubud
X-ORIGINAL-URL:https://kailasharestaurants.com
X-WR-CALDESC:Events for Kailasha Restaurant Sebatu Ubud
REFRESH-INTERVAL;VALUE=DURATION:PT1H
X-Robots-Tag:noindex
X-PUBLISHED-TTL:PT1H
BEGIN:VTIMEZONE
TZID:Asia/Makassar
BEGIN:STANDARD
TZOFFSETFROM:+0800
TZOFFSETTO:+0800
TZNAME:WITA
DTSTART:20240101T000000
END:STANDARD
END:VTIMEZONE
BEGIN:VEVENT
DTSTART;TZID=Asia/Makassar:20250701T190000
DTEND;TZID=Asia/Makassar:20250701T220000
DTSTAMP:20260420T115014
CREATED:20250730T031138Z
LAST-MODIFIED:20250730T031138Z
UID:1163-1751396400-1751407200@kailasharestaurants.com
SUMMARY:BBQ Night With Live Acoustic - August 1\, 2025
DESCRIPTION:Inclusion:\n\nSpecial BBQ Menu\nSet Menu @ IDR 250k ++/set\nLive acoustic music performance\n\nTerms & Conditions:\n\nPrice will be charged based on consumption from a la carte menu or Set menu\nAll the prices are subject to 21% tax and service charges\nThe performances will start from 7:00 pm until 10:00 pm\nBringing food & beverages from outside is not allowed\nVenue will be at Kailasha Restaurant\nMinimum 5 and more than 5 people are required to make a reservation in advance with a guaranteed deposit\nCancelation made within 24 hours of the event will incur a non-refund deposit\nIf there is a change in the event schedule will be notified further via email or phone
URL:https://kailasharestaurants.com/event/bbq-night-with-live-acoustic-august-1-2025/
LOCATION:Kailasha Restaurant\, Sebatu\, Kec. Tegallalang\, Gianyar\, Bali\, 80561\, Indonesia
CATEGORIES:Dinner
ATTACH;FMTTYPE=image/png:https://kailasharestaurants.com/wp-content/uploads/2025/01/BBQ-NIGHT.png
ORGANIZER;CN="Kailasha Restaurant":MAILTO:info@kailasharestaurants.com
END:VEVENT
BEGIN:VEVENT
DTSTART;TZID=Asia/Makassar:20250704T190000
DTEND;TZID=Asia/Makassar:20250704T220000
DTSTAMP:20260420T115014
CREATED:20250615T120102Z
LAST-MODIFIED:20250615T120259Z
UID:1127-1751655600-1751666400@kailasharestaurants.com
SUMMARY:BBQ Night With Live Acoustic - July 4\, 2025
DESCRIPTION:Inclusion:\n\nSpecial BBQ Menu\nSet Menu @ IDR 250k ++/set\nLive acoustic music performance\n\nTerms & Conditions:\n\nPrice will be charged based on consumption from a la carte menu or Set menu\nAll the prices are subject to 21% tax and service charges\nThe performances will start from 7:00 pm until 10:00 pm\nBringing food & beverages from outside is not allowed\nVenue will be at Kailasha Restaurant\nMinimum 5 and more than 5 people are required to make a reservation in advance with a guaranteed deposit\nCancelation made within 24 hours of the event will incur a non-refund deposit\nIf there is a change in the event schedule will be notified further via email or phone
URL:https://kailasharestaurants.com/event/bbq-night-with-live-acoustic-july-4-2025/
LOCATION:Kailasha Restaurant\, Sebatu\, Kec. Tegallalang\, Gianyar\, Bali\, 80561\, Indonesia
CATEGORIES:Dinner
ATTACH;FMTTYPE=image/png:https://kailasharestaurants.com/wp-content/uploads/2025/01/BBQ-NIGHT-1.png
ORGANIZER;CN="Kailasha Restaurant":MAILTO:info@kailasharestaurants.com
END:VEVENT
BEGIN:VEVENT
DTSTART;TZID=Asia/Makassar:20250711T190000
DTEND;TZID=Asia/Makassar:20250711T220000
DTSTAMP:20260420T115014
CREATED:20250615T120205Z
LAST-MODIFIED:20250615T120205Z
UID:1129-1752260400-1752271200@kailasharestaurants.com
SUMMARY:BBQ Night With Live Acoustic - July 11\, 2025
DESCRIPTION:Inclusion:\n\nSpecial BBQ Menu\nSet Menu @ IDR 250k ++/set\nLive acoustic music performance\n\nTerms & Conditions:\n\nPrice will be charged based on consumption from a la carte menu or Set menu\nAll the prices are subject to 21% tax and service charges\nThe performances will start from 7:00 pm until 10:00 pm\nBringing food & beverages from outside is not allowed\nVenue will be at Kailasha Restaurant\nMinimum 5 and more than 5 people are required to make a reservation in advance with a guaranteed deposit\nCancelation made within 24 hours of the event will incur a non-refund deposit\nIf there is a change in the event schedule will be notified further via email or phone
URL:https://kailasharestaurants.com/event/bbq-night-with-live-acoustic-july-11-2025/
LOCATION:Kailasha Restaurant\, Sebatu\, Kec. Tegallalang\, Gianyar\, Bali\, 80561\, Indonesia
CATEGORIES:Dinner
ATTACH;FMTTYPE=image/png:https://kailasharestaurants.com/wp-content/uploads/2025/01/BBQ-NIGHT.png
ORGANIZER;CN="Kailasha Restaurant":MAILTO:info@kailasharestaurants.com
END:VEVENT
BEGIN:VEVENT
DTSTART;TZID=Asia/Makassar:20250718T190000
DTEND;TZID=Asia/Makassar:20250718T220000
DTSTAMP:20260420T115014
CREATED:20250615T120408Z
LAST-MODIFIED:20250615T120408Z
UID:1132-1752865200-1752876000@kailasharestaurants.com
SUMMARY:BBQ Night With Live Acoustic - July 18\, 2025
DESCRIPTION:Inclusion:\n\nSpecial BBQ Menu\nSet Menu @ IDR 250k ++/set\nLive acoustic music performance\n\nTerms & Conditions:\n\nPrice will be charged based on consumption from a la carte menu or Set menu\nAll the prices are subject to 21% tax and service charges\nThe performances will start from 7:00 pm until 10:00 pm\nBringing food & beverages from outside is not allowed\nVenue will be at Kailasha Restaurant\nMinimum 5 and more than 5 people are required to make a reservation in advance with a guaranteed deposit\nCancelation made within 24 hours of the event will incur a non-refund deposit\nIf there is a change in the event schedule will be notified further via email or phone
URL:https://kailasharestaurants.com/event/bbq-night-with-live-acoustic-july-18-2025/
LOCATION:Kailasha Restaurant\, Sebatu\, Kec. Tegallalang\, Gianyar\, Bali\, 80561\, Indonesia
CATEGORIES:Dinner
ATTACH;FMTTYPE=image/png:https://kailasharestaurants.com/wp-content/uploads/2025/01/BBQ-NIGHT-1.png
ORGANIZER;CN="Kailasha Restaurant":MAILTO:info@kailasharestaurants.com
END:VEVENT
BEGIN:VEVENT
DTSTART;TZID=Asia/Makassar:20250725T190000
DTEND;TZID=Asia/Makassar:20250725T220000
DTSTAMP:20260420T115014
CREATED:20250615T120459Z
LAST-MODIFIED:20250615T120459Z
UID:1134-1753470000-1753480800@kailasharestaurants.com
SUMMARY:BBQ Night With Live Acoustic - July 25\, 2025
DESCRIPTION:Inclusion:\n\nSpecial BBQ Menu\nSet Menu @ IDR 250k ++/set\nLive acoustic music performance\n\nTerms & Conditions:\n\nPrice will be charged based on consumption from a la carte menu or Set menu\nAll the prices are subject to 21% tax and service charges\nThe performances will start from 7:00 pm until 10:00 pm\nBringing food & beverages from outside is not allowed\nVenue will be at Kailasha Restaurant\nMinimum 5 and more than 5 people are required to make a reservation in advance with a guaranteed deposit\nCancelation made within 24 hours of the event will incur a non-refund deposit\nIf there is a change in the event schedule will be notified further via email or phone
URL:https://kailasharestaurants.com/event/bbq-night-with-live-acoustic-july-25-2025/
LOCATION:Kailasha Restaurant\, Sebatu\, Kec. Tegallalang\, Gianyar\, Bali\, 80561\, Indonesia
CATEGORIES:Dinner
ATTACH;FMTTYPE=image/png:https://kailasharestaurants.com/wp-content/uploads/2025/01/BBQ-NIGHT.png
ORGANIZER;CN="Kailasha Restaurant":MAILTO:info@kailasharestaurants.com
END:VEVENT
END:VCALENDAR