BEGIN:VCALENDAR
VERSION:2.0
PRODID:-//Kailasha Restaurant Sebatu Ubud - ECPv6.15.17.1//NONSGML v1.0//EN
CALSCALE:GREGORIAN
METHOD:PUBLISH
X-WR-CALNAME:Kailasha Restaurant Sebatu Ubud
X-ORIGINAL-URL:https://kailasharestaurants.com
X-WR-CALDESC:Events for Kailasha Restaurant Sebatu Ubud
REFRESH-INTERVAL;VALUE=DURATION:PT1H
X-Robots-Tag:noindex
X-PUBLISHED-TTL:PT1H
BEGIN:VTIMEZONE
TZID:Asia/Makassar
BEGIN:STANDARD
TZOFFSETFROM:+0800
TZOFFSETTO:+0800
TZNAME:WITA
DTSTART:20240101T000000
END:STANDARD
END:VTIMEZONE
BEGIN:VEVENT
DTSTART;TZID=Asia/Makassar:20251216T110000
DTEND;TZID=Asia/Makassar:20260131T220000
DTSTAMP:20260420T013958
CREATED:20251216T112110Z
LAST-MODIFIED:20260104T095429Z
UID:1409-1765882800-1769896800@kailasharestaurants.com
SUMMARY:Get Free One Glass Of Wine
DESCRIPTION:Inclusion:\n\nOne complimentary glass of Hatten local wine\nAvailable at Kailasha Restaurant \n\nTerms & Conditions:\n\nValid for dine-in only\nMinimum spending of IDR 200\,000 per transaction\nComplimentary wine applies to one glass per transaction\nAvailable daily from 11:00 AM – 10:00 PM\nCannot be combined with other promotions
URL:https://kailasharestaurants.com/event/get-free-one-glass-of-wine/
LOCATION:Kailasha Restaurant\, Sebatu\, Kec. Tegallalang\, Gianyar\, Bali\, 80561\, Indonesia
CATEGORIES:Dinner
ATTACH;FMTTYPE=image/png:https://kailasharestaurants.com/wp-content/uploads/2025/12/FREE-A-GLASS-OF-WINE-1.png
ORGANIZER;CN="Kailasha Restaurant":MAILTO:info@kailasharestaurants.com
END:VEVENT
END:VCALENDAR