BEGIN:VCALENDAR
VERSION:2.0
PRODID:-//Kailasha Restaurant Sebatu Ubud - ECPv6.15.17.1//NONSGML v1.0//EN
CALSCALE:GREGORIAN
METHOD:PUBLISH
X-WR-CALNAME:Kailasha Restaurant Sebatu Ubud
X-ORIGINAL-URL:https://kailasharestaurants.com
X-WR-CALDESC:Events for Kailasha Restaurant Sebatu Ubud
REFRESH-INTERVAL;VALUE=DURATION:PT1H
X-Robots-Tag:noindex
X-PUBLISHED-TTL:PT1H
BEGIN:VTIMEZONE
TZID:Asia/Makassar
BEGIN:STANDARD
TZOFFSETFROM:+0800
TZOFFSETTO:+0800
TZNAME:WITA
DTSTART:20220101T000000
END:STANDARD
END:VTIMEZONE
BEGIN:VEVENT
DTSTART;TZID=Asia/Makassar:20231231T190000
DTEND;TZID=Asia/Makassar:20240101T003000
DTSTAMP:20260422T201923
CREATED:20231228T080511Z
LAST-MODIFIED:20231228T080511Z
UID:692-1704049200-1704069000@kailasharestaurants.com
SUMMARY:New Year Eve Dinner with Live Gambelan - December 31\, 2023
DESCRIPTION:Inclusion:\n\n1 glass of local wine\n1 glass of cocktail\nSet Menu New Year Eve\nEntertaiment : Traditional Balinese Dance\n\nTerms & Conditions:\n\nPrice will be charged based on consumption from Buffee menu\nAll the prices are subject to 21% tax and service charges\nThe performances will start from 7 pm until end\nBringing food & beverage from outside is not allowed\nVenue will be at Kailasha Restaurant\nMinimum 5 and more than 5 people is required to make a reservation in advance with a guaranteed deposit\nCancelation made within 24 hours to the event will incur a non-refund deposit\nIf there is a change in the event schedule will be notified further via email or phone
URL:https://kailasharestaurants.com/event/new-year-eve-dinner-with-live-gambelan-december-31-2023/
LOCATION:Kailasha Restaurant\, Sebatu\, Kec. Tegallalang\, Gianyar\, Bali\, 80561\, Indonesia
CATEGORIES:Dinner
ATTACH;FMTTYPE=image/png:https://kailasharestaurants.com/wp-content/uploads/2023/12/New-Year-Eve-Dinner-2024-Puri-Gangga.-Kailasha.png
ORGANIZER;CN="Kailasha Restaurant":MAILTO:info@kailasharestaurants.com
END:VEVENT
END:VCALENDAR