BEGIN:VCALENDAR
VERSION:2.0
PRODID:-//Kailasha Restaurant Sebatu Ubud - ECPv6.15.17.1//NONSGML v1.0//EN
CALSCALE:GREGORIAN
METHOD:PUBLISH
X-WR-CALNAME:Kailasha Restaurant Sebatu Ubud
X-ORIGINAL-URL:https://kailasharestaurants.com
X-WR-CALDESC:Events for Kailasha Restaurant Sebatu Ubud
REFRESH-INTERVAL;VALUE=DURATION:PT1H
X-Robots-Tag:noindex
X-PUBLISHED-TTL:PT1H
BEGIN:VTIMEZONE
TZID:Asia/Makassar
BEGIN:STANDARD
TZOFFSETFROM:+0800
TZOFFSETTO:+0800
TZNAME:WITA
DTSTART:20220101T000000
END:STANDARD
END:VTIMEZONE
BEGIN:VEVENT
DTSTART;TZID=Asia/Makassar:20230924T190000
DTEND;TZID=Asia/Makassar:20230924T220000
DTSTAMP:20260423T033101
CREATED:20230919T142050Z
LAST-MODIFIED:20230919T142051Z
UID:631-1695582000-1695592800@kailasharestaurants.com
SUMMARY:Balinese Culture Dinner with Live Gambelan
DESCRIPTION:Enjoy our culture Dinner accompanied by Balinese Dance Performance and Live Gamelan
URL:https://kailasharestaurants.com/event/balinese-culture-dinner-with-live-gambelan/
LOCATION:Kailasha Restaurant\, Sebatu\, Kec. Tegallalang\, Gianyar\, Bali\, 80561\, Indonesia
CATEGORIES:Dinner
ATTACH;FMTTYPE=image/jpeg:https://kailasharestaurants.com/wp-content/uploads/2023/09/Culture-Dinner-Kailasha-Restaurant.jpg
ORGANIZER;CN="Kailasha Restaurant":MAILTO:info@kailasharestaurants.com
END:VEVENT
END:VCALENDAR