BEGIN:VCALENDAR
VERSION:2.0
PRODID:-//Kailasha Restaurant Sebatu Ubud - ECPv6.15.17.1//NONSGML v1.0//EN
CALSCALE:GREGORIAN
METHOD:PUBLISH
X-WR-CALNAME:Kailasha Restaurant Sebatu Ubud
X-ORIGINAL-URL:https://kailasharestaurants.com
X-WR-CALDESC:Events for Kailasha Restaurant Sebatu Ubud
REFRESH-INTERVAL;VALUE=DURATION:PT1H
X-Robots-Tag:noindex
X-PUBLISHED-TTL:PT1H
BEGIN:VTIMEZONE
TZID:Asia/Makassar
BEGIN:STANDARD
TZOFFSETFROM:+0800
TZOFFSETTO:+0800
TZNAME:WITA
DTSTART:20230101T000000
END:STANDARD
END:VTIMEZONE
BEGIN:VEVENT
DTSTART;TZID=Asia/Makassar:20241224T190000
DTEND;TZID=Asia/Makassar:20241224T220000
DTSTAMP:20260421T232220
CREATED:20241208T055124Z
LAST-MODIFIED:20241208T055320Z
UID:952-1735066800-1735077600@kailasharestaurants.com
SUMMARY:Christmas Eve Dinner with Live Band Performance and Santa - December 24\, 2024
DESCRIPTION:Inclusion:\n\n4 Courses Set Menu from Kailasha Restaurant @IDR 350k ++/set \nLive Band Performance and Santa\n\nTerms & Conditions:\n\nPrice will be charged based on consumption from the Set Menu\nAll the prices are subject to 21% tax and service charges\nThe performances will start from 5 pm until 10 pm\nBringing food & beverages from outside is not allowed\nThe venue will be at Kailasha Restaurant\nMinimum 5 and more than 5 people are required to make a reservation in advance with a guaranteed deposit\nCancelation made within 24 hours of the event will incur a non-refund deposit\nIf there is a change in the event schedule\, you will be notified further via email or phone
URL:https://kailasharestaurants.com/event/christmas-eve-dinner-with-live-band-performance-and-santa-december-24-2024/
LOCATION:Kailasha Restaurant\, Sebatu\, Kec. Tegallalang\, Gianyar\, Bali\, 80561\, Indonesia
CATEGORIES:Dinner
ATTACH;FMTTYPE=image/png:https://kailasharestaurants.com/wp-content/uploads/2024/12/Rindik.png
ORGANIZER;CN="Kailasha Restaurant":MAILTO:info@kailasharestaurants.com
END:VEVENT
BEGIN:VEVENT
DTSTART;TZID=Asia/Makassar:20241228T193000
DTEND;TZID=Asia/Makassar:20241228T220000
DTSTAMP:20260421T232220
CREATED:20241203T034022Z
LAST-MODIFIED:20241203T034022Z
UID:945-1735414200-1735423200@kailasharestaurants.com
SUMMARY:Balinese Culture Dinner with Balinese Dance Performance and Live Gambelan - December 28\, 2024
DESCRIPTION:Inclusion:\n\nSet Menu special from Kailasha Restaurant @IDR 300k ++/set \nLive Performance of Balinese dance and Live Gambelan\n\nTerms & Conditions:\n\nPrice will be charged based on consumption from the Set Menu\nAll the prices are subject to 21% tax and service charges\nThe performances will start from 7 pm until 10 pm\nBringing food & beverages from outside is not allowed\nThe venue will be at Kailasha Restaurant\nMinimum 5 and more than 5 people are required to make a reservation in advance with a guaranteed deposit\nCancelation made within 24 hours of the event will incur a non-refund deposit\nIf there is a change in the event schedule\, you will be notified further via email or phone
URL:https://kailasharestaurants.com/event/balinese-culture-dinner-with-balinese-dance-performance-and-live-gambelan-december-28-2024/
LOCATION:Kailasha Restaurant\, Sebatu\, Kec. Tegallalang\, Gianyar\, Bali\, 80561\, Indonesia
CATEGORIES:Dinner
ATTACH;FMTTYPE=image/jpeg:https://kailasharestaurants.com/wp-content/uploads/2023/09/Culture-Dinner-Kailasha-Restaurant.jpg
ORGANIZER;CN="Kailasha Restaurant":MAILTO:info@kailasharestaurants.com
END:VEVENT
BEGIN:VEVENT
DTSTART;TZID=Asia/Makassar:20241231T170000
DTEND;TZID=Asia/Makassar:20241231T220000
DTSTAMP:20260421T232220
CREATED:20241208T053852Z
LAST-MODIFIED:20241208T055246Z
UID:947-1735664400-1735682400@kailasharestaurants.com
SUMMARY:New Year Eve Dinner with Balinese Dance Performance and Live Gambelan and Live Acoustic - December 31\, 2024
DESCRIPTION:Inclusion:\n\n5 Courses Set Menu from Kailasha Restaurant @IDR 650k ++/set \nLive Performance of Balinese dance with Live Gambelan and Live acoustic performance\n\nTerms & Conditions:\n\nPrice will be charged based on consumption from the Set Menu\nAll the prices are subject to 21% tax and service charges\nThe performances will start from 5 pm until 10 pm\nBringing food & beverages from outside is not allowed\nThe venue will be at Kailasha Restaurant\nMinimum 5 and more than 5 people are required to make a reservation in advance with a guaranteed deposit\nCancelation made within 24 hours of the event will incur a non-refund deposit\nIf there is a change in the event schedule\, you will be notified further via email or phone
URL:https://kailasharestaurants.com/event/new-year-eve-dinner-with-balinese-dance-performance-and-live-gambelan-and-live-acoustic-december-31-2024/
LOCATION:Kailasha Restaurant\, Sebatu\, Kec. Tegallalang\, Gianyar\, Bali\, 80561\, Indonesia
CATEGORIES:Dinner
ATTACH;FMTTYPE=image/png:https://kailasharestaurants.com/wp-content/uploads/2024/12/Rindik-2.png
ORGANIZER;CN="Kailasha Restaurant":MAILTO:info@kailasharestaurants.com
END:VEVENT
END:VCALENDAR