BEGIN:VCALENDAR
VERSION:2.0
PRODID:-//Kailasha Restaurant Sebatu Ubud - ECPv6.15.17.1//NONSGML v1.0//EN
CALSCALE:GREGORIAN
METHOD:PUBLISH
X-WR-CALNAME:Kailasha Restaurant Sebatu Ubud
X-ORIGINAL-URL:https://kailasharestaurants.com
X-WR-CALDESC:Events for Kailasha Restaurant Sebatu Ubud
REFRESH-INTERVAL;VALUE=DURATION:PT1H
X-Robots-Tag:noindex
X-PUBLISHED-TTL:PT1H
BEGIN:VTIMEZONE
TZID:Asia/Makassar
BEGIN:STANDARD
TZOFFSETFROM:+0800
TZOFFSETTO:+0800
TZNAME:WITA
DTSTART:20230101T000000
END:STANDARD
END:VTIMEZONE
BEGIN:VEVENT
DTSTART;TZID=Asia/Makassar:20240803T190000
DTEND;TZID=Asia/Makassar:20240803T220000
DTSTAMP:20260422T062408
CREATED:20240730T103514Z
LAST-MODIFIED:20240730T103514Z
UID:807-1722711600-1722722400@kailasharestaurants.com
SUMMARY:Balinese Culture Dinner with Balinese Dance Performance - August 3\, 2024
DESCRIPTION:Inclusion:\n\nSet Menu special from Kailasha Restaurant @IDR 300k ++/set \nLive Performance of Balinese dance \n\nTerms & Conditions:\n\nPrice will be charged based on consumption from the Set Menu\nAll the prices are subject to 21% tax and service charges\nThe performances will start from 7 pm until 10 pm\nBringing food & beverages from outside is not allowed\nThe venue will be at Kailasha Restaurant\nMinimum 5 and more than 5 people are required to make a reservation in advance with a guaranteed deposit\nCancelation made within 24 hours of the event will incur a non-refund deposit\nIf there is a change in the event schedule\, you will be notified further via email or phone
URL:https://kailasharestaurants.com/event/balinese-culture-dinner-with-balinese-dance-performance-august-1-2024/
LOCATION:Kailasha Restaurant\, Sebatu\, Kec. Tegallalang\, Gianyar\, Bali\, 80561\, Indonesia
CATEGORIES:Dinner
ATTACH;FMTTYPE=image/png:https://kailasharestaurants.com/wp-content/uploads/2024/06/Culture-dinner-9.png
ORGANIZER;CN="Kailasha Restaurant":MAILTO:info@kailasharestaurants.com
END:VEVENT
BEGIN:VEVENT
DTSTART;TZID=Asia/Makassar:20240806T190000
DTEND;TZID=Asia/Makassar:20240806T220000
DTSTAMP:20260422T062408
CREATED:20240730T103708Z
LAST-MODIFIED:20240804T114134Z
UID:809-1722970800-1722981600@kailasharestaurants.com
SUMMARY:Balinese Culture Dinner with Balinese Dance Performance and live Gambelan- August 6\, 2024
DESCRIPTION:Inclusion:\n\nSet Menu special from Kailasha Restaurant @IDR 300k ++/set \nLive Performance of Balinese dance and live Gambelan \n\nTerms & Conditions:\n\nPrice will be charged based on consumption from the Set Menu\nAll the prices are subject to 21% tax and service charges\nThe performances will start from 7 pm until 10 pm\nBringing food & beverages from outside is not allowed\nThe venue will be at Kailasha Restaurant\nMinimum 5 and more than 5 people are required to make a reservation in advance with a guaranteed deposit\nCancelation made within 24 hours of the event will incur a non-refund deposit\nIf there is a change in the event schedule\, you will be notified further via email or phone
URL:https://kailasharestaurants.com/event/balinese-culture-dinner-with-balinese-dance-performance-august-6-2024/
LOCATION:Kailasha Restaurant\, Sebatu\, Kec. Tegallalang\, Gianyar\, Bali\, 80561\, Indonesia
CATEGORIES:Dinner
ATTACH;FMTTYPE=image/png:https://kailasharestaurants.com/wp-content/uploads/2024/04/Culture-dinner-7.png
ORGANIZER;CN="Kailasha Restaurant":MAILTO:info@kailasharestaurants.com
END:VEVENT
BEGIN:VEVENT
DTSTART;TZID=Asia/Makassar:20240815T193000
DTEND;TZID=Asia/Makassar:20240815T220000
DTSTAMP:20260422T062408
CREATED:20240730T103848Z
LAST-MODIFIED:20240815T052946Z
UID:811-1723750200-1723759200@kailasharestaurants.com
SUMMARY:Balinese Culture Dinner with Balinese Dance Performance and Live Gambelan- August 15\, 2024
DESCRIPTION:Inclusion:\n\nSet Menu special from Kailasha Restaurant @IDR 300k ++/set \nLive Performance of Balinese dance and live Gambelan\n\nTerms & Conditions:\n\nPrice will be charged based on consumption from the Set Menu\nAll the prices are subject to 21% tax and service charges\nThe performances will start from 7 pm until 10 pm\nBringing food & beverages from outside is not allowed\nThe venue will be at Kailasha Restaurant\nMinimum 5 and more than 5 people are required to make a reservation in advance with a guaranteed deposit\nCancelation made within 24 hours of the event will incur a non-refund deposit\nIf there is a change in the event schedule\, you will be notified further via email or phone
URL:https://kailasharestaurants.com/event/balinese-culture-dinner-with-balinese-dance-performance-and-live-gambelanaugust-15-2024/
LOCATION:Kailasha Restaurant\, Sebatu\, Kec. Tegallalang\, Gianyar\, Bali\, 80561\, Indonesia
CATEGORIES:Dinner
ATTACH;FMTTYPE=image/png:https://kailasharestaurants.com/wp-content/uploads/2024/05/Culture-dinner-9.png
ORGANIZER;CN="Kailasha Restaurant":MAILTO:info@kailasharestaurants.com
END:VEVENT
BEGIN:VEVENT
DTSTART;TZID=Asia/Makassar:20240817T193000
DTEND;TZID=Asia/Makassar:20240817T220000
DTSTAMP:20260422T062408
CREATED:20240730T104226Z
LAST-MODIFIED:20240815T053258Z
UID:815-1723923000-1723932000@kailasharestaurants.com
SUMMARY:Balinese Culture Dinner with Balinese Dance Performance and Live Gambelan- August 17\, 2024
DESCRIPTION:Inclusion:\n\nSet Menu special from Kailasha Restaurant @IDR 300k ++/set \nLive Performance of Balinese dance and Live Gambelan\n\nTerms & Conditions:\n\nPrice will be charged based on consumption from the Set Menu\nAll the prices are subject to 21% tax and service charges\nThe performances will start from 7 pm until 10 pm\nBringing food & beverages from outside is not allowed\nThe venue will be at Kailasha Restaurant\nMinimum 5 and more than 5 people are required to make a reservation in advance with a guaranteed deposit\nCancelation made within 24 hours of the event will incur a non-refund deposit\nIf there is a change in the event schedule\, you will be notified further via email or phone
URL:https://kailasharestaurants.com/event/balinese-culture-dinner-with-balinese-dance-performance-and-live-gambelan-august-17-2024/
LOCATION:Kailasha Restaurant\, Sebatu\, Kec. Tegallalang\, Gianyar\, Bali\, 80561\, Indonesia
CATEGORIES:Dinner
ATTACH;FMTTYPE=image/png:https://kailasharestaurants.com/wp-content/uploads/2024/04/Culture-dinner-7.png
ORGANIZER;CN="Kailasha Restaurant":MAILTO:info@kailasharestaurants.com
END:VEVENT
BEGIN:VEVENT
DTSTART;TZID=Asia/Makassar:20240821T193000
DTEND;TZID=Asia/Makassar:20240821T220000
DTSTAMP:20260422T062408
CREATED:20240730T104111Z
LAST-MODIFIED:20240819T035016Z
UID:813-1724268600-1724277600@kailasharestaurants.com
SUMMARY:Balinese Culture Dinner with Balinese Dance Performance and Live Gambelan - August 21\, 2024
DESCRIPTION:Inclusion:\n\nSet Menu special from Kailasha Restaurant @IDR 300k ++/set \nLive Performance of Balinese dance and Live Gambelan\n\nTerms & Conditions:\n\nPrice will be charged based on consumption from the Set Menu\nAll the prices are subject to 21% tax and service charges\nThe performances will start from 7 pm until 10 pm\nBringing food & beverages from outside is not allowed\nThe venue will be at Kailasha Restaurant\nMinimum 5 and more than 5 people are required to make a reservation in advance with a guaranteed deposit\nCancelation made within 24 hours of the event will incur a non-refund deposit\nIf there is a change in the event schedule\, you will be notified further via email or phone
URL:https://kailasharestaurants.com/event/balinese-culture-dinner-with-balinese-dance-performance-and-live-gambelan-august-21-2024/
LOCATION:Kailasha Restaurant\, Sebatu\, Kec. Tegallalang\, Gianyar\, Bali\, 80561\, Indonesia
CATEGORIES:Dinner
ATTACH;FMTTYPE=image/png:https://kailasharestaurants.com/wp-content/uploads/2024/06/Culture-dinner-9.png
ORGANIZER;CN="Kailasha Restaurant":MAILTO:info@kailasharestaurants.com
END:VEVENT
BEGIN:VEVENT
DTSTART;TZID=Asia/Makassar:20240825T193000
DTEND;TZID=Asia/Makassar:20240825T220000
DTSTAMP:20260422T062408
CREATED:20240730T104418Z
LAST-MODIFIED:20240819T035630Z
UID:817-1724614200-1724623200@kailasharestaurants.com
SUMMARY:Balinese Culture Dinner with Balinese Dance Performance and Live Gambelan- August 25\, 2024
DESCRIPTION:Inclusion:\n\nSet Menu special from Kailasha Restaurant @IDR 300k ++/set \nLive Performance of Balinese dance and Live Gambelan\n\nTerms & Conditions:\n\nPrice will be charged based on consumption from the Set Menu\nAll the prices are subject to 21% tax and service charges\nThe performances will start from 7 pm until 10 pm\nBringing food & beverages from outside is not allowed\nThe venue will be at Kailasha Restaurant\nMinimum 5 and more than 5 people are required to make a reservation in advance with a guaranteed deposit\nCancelation made within 24 hours of the event will incur a non-refund deposit\nIf there is a change in the event schedule\, you will be notified further via email or phone
URL:https://kailasharestaurants.com/event/balinese-culture-dinner-with-balinese-dance-performance-and-live-gambelan-august-25-2024/
LOCATION:Kailasha Restaurant\, Sebatu\, Kec. Tegallalang\, Gianyar\, Bali\, 80561\, Indonesia
CATEGORIES:Dinner
ATTACH;FMTTYPE=image/png:https://kailasharestaurants.com/wp-content/uploads/2024/04/Culture-dinner-7.png
ORGANIZER;CN="Kailasha Restaurant":MAILTO:info@kailasharestaurants.com
END:VEVENT
END:VCALENDAR